BEGIN:VCALENDAR
VERSION:2.0
PRODID:-//pretix//pretix.eu//
BEGIN:VTIMEZONE
TZID:Europe/London
BEGIN:STANDARD
DTSTART:20001029T030000
RRULE:FREQ=YEARLY;BYDAY=-1SU;BYMONTH=10
TZNAME:GMT
TZOFFSETFROM:+0100
TZOFFSETTO:+0000
END:STANDARD
BEGIN:DAYLIGHT
DTSTART:20000326T020000
RRULE:FREQ=YEARLY;BYDAY=-1SU;BYMONTH=3
TZNAME:BST
TZOFFSETFROM:+0000
TZOFFSETTO:+0100
END:DAYLIGHT
END:VTIMEZONE
BEGIN:VEVENT
UID:pretix-lonap-trainingsep22-0@tickets.lonap.net
DTSTART;TZID=Europe/London:20221017T093000
DTEND;TZID=Europe/London:20221018T170000
DESCRIPTION:Tickets: https://tickets.lonap.net/trainingsep22/\nAdmission: 2
 022-10-17 09:00\nOrganizer: LONAP
DTSTAMP:20260422T035300Z
LOCATION:Kings Cross\, LONDON
SUMMARY:Introduction to Peering and BGP Routing
END:VEVENT
END:VCALENDAR
